BEGIN:VCALENDAR
VERSION:2.0
PRODID:-//Tukios.com/
BEGIN:VEVENT
UID:a989e449-4d1d-47e4-99e2-e42dfb71da7c@www.moorememorial.com
DTSTAMP:20260422T052254Z
DTSTART:20260508T210000Z
DTEND:20260508T220000Z
SUMMARY:Graveside Service
DESCRIPTION:
URL:https://www.moorememorial.com/obituaries/kathy-thomas
LOCATION:Warren County Memorial Park 1325 N 11th Street  Monmouth IL 
	61462
GEO:40.9336373;-90.6269308
END:VEVENT
END:VCALENDAR